BEGIN:VCALENDAR
VERSION:2.0
PRODID:-//hacksw/handcal//NONSGML v1.0//EN
BEGIN:VEVENT
UID:de1df3b159592b82b71d5a3828cde30f
DTSTAMP:20260423T162727Z

DTSTART:20130120T000000
DTEND:20130120T235959
SUMMARY:Bachelor Of Education And Learning Linked Content
DESCRIPTION:The Denver Faculty of Nursing presents two associate diploma plans and a baccalaureate diploma system, all of which has acquired acceptance from the Colorado State Board of Nursing. Graduates of Denver Faculty of Nursing are eligible to consider nursing licensure exams. The Denver Faculty of Nursing delivers courses through the complete yr with working day, night and weekend courses.

Nowadays, there is shortage of travel nurses given that they are in substantial demand in a lot of parts of the country. Any candidate intrigued in acquiring a journey 
LOCATION:1335 Avenue of the Americas, New York, New York, 10019, USA
END:VEVENT

END:VCALENDAR
