BEGIN:VCALENDAR
VERSION:2.0
PRODID:-//hacksw/handcal//NONSGML v1.0//EN
BEGIN:VEVENT
UID:c75b22e4319405f2f8900e21719ca96f
DTSTAMP:20260421T231147Z

DTSTART:20121123T000000
DTEND:20121123T235959
SUMMARY:Benefits Of Buying Small Refrigerator
DESCRIPTION:Upright freezers arrive in white, silver or graphite colors and are assured to blend in with any kitchen design and style. Granite, getting created from molten rock, can stand up to the high temperature from a scorching pot devoid of a trivet. The company has facilities in Belgium, France, the Netherlands and, definitely, the United States. I am a expert writer from Building
LOCATION:1335 Avenue of the Americas, New York, New York, 10019, USA
END:VEVENT

END:VCALENDAR
