BEGIN:VCALENDAR
VERSION:2.0
PRODID:-//hacksw/handcal//NONSGML v1.0//EN
BEGIN:VEVENT
UID:5c5650137f92d15f1cdc396cbf9330fe
DTSTAMP:20260421T230913Z

DTSTART:20121123T000000
DTEND:20121123T235959
SUMMARY:Suggestions For Location Up Your Compact Kitchen
DESCRIPTION:If it feels flimsy to you, never acquire it. Its high-domed lid enables humidity to continue to be inside, hence increasing the texture and the style of any food items product. Programs acquired from plenty of family members group goods, elementary lumber and components, in addition top-quality incorporate. I am a skilled author from Construction
LOCATION:1335 Avenue of the Americas, New York, New York, 10019, USA
END:VEVENT

END:VCALENDAR
