BEGIN:VCALENDAR
VERSION:2.0
PRODID:-//hacksw/handcal//NONSGML v1.0//EN
BEGIN:VEVENT
UID:f2ee69b0c39c501ff31ddf91b5765b26
DTSTAMP:20260421T213752Z

DTSTART:20121121T000000
DTEND:20121121T235959
SUMMARY:Unforgettable Wedding Ceremony Reception Centerpiece Suggestions
DESCRIPTION:It is often much better to begin searching for a first rate location in progress as fantastic venues become challenging to receive afterwards. They are competent sector gurus that have been earning a dwelling in the business for a lot of several years. Check out some of Bali best marriage ceremony planner and fully grasp how this desire can be reality even when you do not have the luxury of time just get in touch with one particular of best wedding ceremony planner in Bali. Castle wedding ceremonies give a
LOCATION:1335 Avenue of the Americas, New York, New York, 10019, USA
END:VEVENT

END:VCALENDAR
