BEGIN:VCALENDAR
VERSION:2.0
PRODID:-//hacksw/handcal//NONSGML v1.0//EN
BEGIN:VEVENT
UID:35d5f9f9c32de27a2ff7a612bd67377b
DTSTAMP:20260421T182914Z

DTSTART:20121116T000000
DTEND:20121116T235959
SUMMARY:What On Earth Is Tava Tea You Consult
DESCRIPTION:The a few most important elements discovered in Tava tea contain Sencha, Oolong, and Puerh. This anti pimples tea also is made up of anti bacterial properties so it kills all the micro organism from in the human body and eventually enable you detoxify the body. In actuality, the farther you continue to be away from the treadmill the far better effects you will probable have. 

Our oolong class could be a mix involving black and green tea. The well being added benefits of tea are a lot more as opposed to coffee. It also stimulates new tissue growth, aids cure harmed tissue, and presents a calming sensation. Free of charge radicals injury the body at the mobile level, generating people a lot more liable to get coronary coronary heart ailment, different degenerative conditions as well as most cancers. 


LOCATION:1335 Avenue of the Americas, New York, New York, 10019, USA
END:VEVENT

END:VCALENDAR
