BEGIN:VCALENDAR
VERSION:2.0
PRODID:-//hacksw/handcal//NONSGML v1.0//EN
BEGIN:VEVENT
UID:1a18b54993a697b3d2dad580bc77f4fb
DTSTAMP:20260421T182710Z

DTSTART:20121116T000000
DTEND:20121116T235959
SUMMARY:Friday Evening Lamps S05E12
DESCRIPTION:The task in advance is not a mattress of roses, but Taylor is decided to retain no stone unturned, as he presents his best to the team. It does not matter what you pick out, they will all offer the comfort designed for the kid. The issue with this is, in most scenarios, the more the mild is from the transformer, the dimmer. Marcos Siega directed the pilot created by executive producers Kevin Williamson
LOCATION:1335 Avenue of the Americas, New York, New York, 10019, USA
END:VEVENT

END:VCALENDAR
