BEGIN:VCALENDAR
VERSION:2.0
PRODID:-//hacksw/handcal//NONSGML v1.0//EN
BEGIN:VEVENT
UID:b8dca4eaea4b1433bdba2c3ecbec9ab4
DTSTAMP:20260421T165904Z

DTSTART:20121116T000000
DTEND:20121116T235959
SUMMARY:You Can Sign-Up For An On-Line Friends Program
DESCRIPTION:Not like additional simple treatment providers, individuals who are qualified in ACLS can present quite a few much more sophisticated interventions. In addition, you will not have to any extra charge to appear for examination retakes. Clinical pros who are necessary to function in the emergency rooms for key well being treatment companies are typically expected to be ACLS accredited and acquire ACLS recertification system each and every two a long time. If you are all organized to get ACLS protocol certification all you have to do is research on net for the sought after benefits and you can also seek the advice of some seasoned individual who is ACLS protocol qualified. The checks can range relying on your teacher or the organization but generally you will be expected to swim for 300 yards executing equally the entrance crawl and the breaststroke without having halting to rest. 

The instrument that you get is actually mostly due to the fact with no a single, it is generally not possible to apply critical wellness care advantage. If you go, you will get an <a href="http://www.494martians.com/">ACLS Certification Course</a> card. ACLS qualified specialists are supposed to study CPR, the use of a defibrillator and looking through ECGs (Electro-cardiograms). That will re-certify suppliers may possibly acquire an internet re-certification school in addition to examination. The only distinction is that alternatively of attending classrooms, you have the independence to sit in the comfort of your house and research.



ACLS teaches suppliers the measures and protocol that require to be initiated to resuscitate somebody who has gone into cardiac arrest. If they get excellent high quality enable early, then their probabilities of survival are significantly boosted. ACLS training instills self-confidence in health care specialists to manage any health-related unexpected emergency. The check as a result will become an evaluation platform to gauge the learners
LOCATION:1335 Avenue of the Americas, New York, New York, 10019, USA
END:VEVENT

END:VCALENDAR
