BEGIN:VCALENDAR
VERSION:2.0
PRODID:-//hacksw/handcal//NONSGML v1.0//EN
BEGIN:VEVENT
UID:2ea6741d6c4a194d6e147abb1d78eb2f
DTSTAMP:20260421T171534Z

DTSTART:20121115T000000
DTEND:20121115T235959
SUMMARY:Move Or Don't Pay!
DESCRIPTION:You really should method for superb top quality kitchen provides. No matter what you decide on to try to eat inside of the stadium, you have to wash it down with some Outdated Type beer, brewed by Wisconsin's Pabst Brewing Company. It opens each day at 10 am even for enthusiasts without having tickets. 

As the chefs are winnowed down, only people who catch Ramsay
LOCATION:1335 Avenue of the Americas, New York, New York, 10019, USA
END:VEVENT

END:VCALENDAR
