BEGIN:VCALENDAR
VERSION:2.0
PRODID:-//hacksw/handcal//NONSGML v1.0//EN
BEGIN:VEVENT
UID:4e6b30e08a16a0e0a485d594b65958fa
DTSTAMP:20260420T230329Z

DTSTART:20130119T000000
DTEND:20130119T235959
SUMMARY:Passionate Connection Tips Related Articles Or Blog Posts
DESCRIPTION:Test and sustain the passion that you the moment had. A dating and connection idea to executing this would be to shock your associate with appreciate notes or small offers just for the entertaining of it. Normally, when individuals get into a romantic relationship, they only reserve the gift supplying to unique events. Do not enable this be the way to run your partnership as just about every one working day can be Valentine
LOCATION:1335 Avenue of the Americas, New York, New York, 10019, USA
END:VEVENT

END:VCALENDAR
