BEGIN:VCALENDAR
VERSION:2.0
PRODID:-//hacksw/handcal//NONSGML v1.0//EN
BEGIN:VEVENT
UID:fe5a8051d8f70f971551e28a2a5dafbd
DTSTAMP:20260421T120006Z

DTSTART:20121028T000000
DTEND:20121028T235959
SUMMARY:The Discrepancies In Pool Table Fabric
DESCRIPTION:The suggestions of more affordable swimming pool cues are created of either graphite or plastic and the butt is not blanketed with any content. Right now, you could properly have variety of game titles that it is potential to engage in, possibly indoors or outside. The pre assembly is accomplished in the factory so that the purchaser is certain of a correctly squared off swimming pool table. The lighting fixtures really should be set up effectively in excess of the table. 

It can be a challenging choice, but it might make the big difference amongst staying
LOCATION:1335 Avenue of the Americas, New York, New York, 10019, USA
END:VEVENT

END:VCALENDAR
